BEGIN:VCALENDAR
VERSION:2.0
PRODID:-//Victoria Trail Agricultural Society - ECPv6.15.20//NONSGML v1.0//EN
CALSCALE:GREGORIAN
METHOD:PUBLISH
X-WR-CALNAME:Victoria Trail Agricultural Society
X-ORIGINAL-URL:https://victoriatrailag.com
X-WR-CALDESC:Events for Victoria Trail Agricultural Society
REFRESH-INTERVAL;VALUE=DURATION:PT1H
X-Robots-Tag:noindex
X-PUBLISHED-TTL:PT1H
BEGIN:VTIMEZONE
TZID:America/Denver
BEGIN:DAYLIGHT
TZOFFSETFROM:-0700
TZOFFSETTO:-0600
TZNAME:MDT
DTSTART:20250309T090000
END:DAYLIGHT
BEGIN:STANDARD
TZOFFSETFROM:-0600
TZOFFSETTO:-0700
TZNAME:MST
DTSTART:20251102T080000
END:STANDARD
BEGIN:DAYLIGHT
TZOFFSETFROM:-0700
TZOFFSETTO:-0600
TZNAME:MDT
DTSTART:20260308T090000
END:DAYLIGHT
BEGIN:STANDARD
TZOFFSETFROM:-0600
TZOFFSETTO:-0700
TZNAME:MST
DTSTART:20261101T080000
END:STANDARD
BEGIN:DAYLIGHT
TZOFFSETFROM:-0700
TZOFFSETTO:-0600
TZNAME:MDT
DTSTART:20270314T090000
END:DAYLIGHT
BEGIN:STANDARD
TZOFFSETFROM:-0600
TZOFFSETTO:-0700
TZNAME:MST
DTSTART:20271107T080000
END:STANDARD
END:VTIMEZONE
BEGIN:VEVENT
DTSTART;TZID=America/Denver:20260603T080000
DTEND;TZID=America/Denver:20260603T200000
DTSTAMP:20260424T112920
CREATED:20251029T041744Z
LAST-MODIFIED:20251029T041744Z
UID:1488-1780473600-1780516800@victoriatrailag.com
SUMMARY:Newbrook 4H Beef Club Set Up - No Riding
DESCRIPTION:
URL:https://victoriatrailag.com/event/newbrook-4h-beef-club-set-up-no-riding-2/
LOCATION:Waskatenau\, Alberta\, 5004 52 Avenue\, Waskatenau\, Alberta\, T0A 3P0
END:VEVENT
BEGIN:VEVENT
DTSTART;TZID=America/Denver:20260604T080000
DTEND;TZID=America/Denver:20260604T200000
DTSTAMP:20260424T112920
CREATED:20251029T000119Z
LAST-MODIFIED:20251029T000119Z
UID:1437-1780560000-1780603200@victoriatrailag.com
SUMMARY:Newbrook 4H Beef Club - Set up- No Riding
DESCRIPTION:
URL:https://victoriatrailag.com/event/newbrook-4h-beef-club-set-up-no-riding/
LOCATION:Waskatenau\, Alberta\, 5004 52 Avenue\, Waskatenau\, Alberta\, T0A 3P0
END:VEVENT
BEGIN:VEVENT
DTSTART;TZID=America/Denver:20260605T080000
DTEND;TZID=America/Denver:20260605T200000
DTSTAMP:20260424T112920
CREATED:20251029T000214Z
LAST-MODIFIED:20251029T042401Z
UID:1439-1780646400-1780689600@victoriatrailag.com
SUMMARY:Newbrook 4H Beef Achievement Day - No Riding
DESCRIPTION:
URL:https://victoriatrailag.com/event/newbrook-4h-beef-achievement-day/
LOCATION:Waskatenau\, Alberta\, 5004 52 Avenue\, Waskatenau\, Alberta\, T0A 3P0
END:VEVENT
BEGIN:VEVENT
DTSTART;TZID=America/Denver:20260606T080000
DTEND;TZID=America/Denver:20260606T200000
DTSTAMP:20260424T112920
CREATED:20251217T015539Z
LAST-MODIFIED:20251217T015539Z
UID:1524-1780732800-1780776000@victoriatrailag.com
SUMMARY:Newbrook 4H Beef Clean up\, Bellis 4H Beef set up ( No Riding )
DESCRIPTION:
URL:https://victoriatrailag.com/event/newbrook-4h-beef-clean-up-bellis-4h-beef-set-up-no-riding/
LOCATION:Waskatenau\, Alberta\, 5004 52 Avenue\, Waskatenau\, Alberta\, T0A 3P0
END:VEVENT
BEGIN:VEVENT
DTSTART;TZID=America/Denver:20260607T080000
DTEND;TZID=America/Denver:20260607T200000
DTSTAMP:20260424T112920
CREATED:20251209T045956Z
LAST-MODIFIED:20251209T050150Z
UID:1513-1780819200-1780862400@victoriatrailag.com
SUMMARY:Bellis 4H Beef Club Setup (No Riding)
DESCRIPTION:
URL:https://victoriatrailag.com/event/bellis-4h-beef-club-setup-no-riding/
LOCATION:Waskatenau\, Alberta\, 5004 52 Avenue\, Waskatenau\, Alberta\, T0A 3P0
END:VEVENT
BEGIN:VEVENT
DTSTART;TZID=America/Denver:20260608T080000
DTEND;TZID=America/Denver:20260608T200000
DTSTAMP:20260424T112920
CREATED:20251209T050430Z
LAST-MODIFIED:20251209T050430Z
UID:1515-1780905600-1780948800@victoriatrailag.com
SUMMARY:Bellis 4H Achievement Day  (No Riding)
DESCRIPTION:
URL:https://victoriatrailag.com/event/bellis-4h-achievement-day-no-riding/
LOCATION:Waskatenau\, Alberta\, 5004 52 Avenue\, Waskatenau\, Alberta\, T0A 3P0
END:VEVENT
BEGIN:VEVENT
DTSTART;TZID=America/Denver:20260614T080000
DTEND;TZID=America/Denver:20260614T170000
DTSTAMP:20260424T112920
CREATED:20260124T062111Z
LAST-MODIFIED:20260124T062111Z
UID:1544-1781424000-1781456400@victoriatrailag.com
SUMMARY:Newbrook 4H Horse Club Achievement Day
DESCRIPTION:
URL:https://victoriatrailag.com/event/newbrook-4h-horse-club-achievement-day-3/
LOCATION:Waskatenau\, Alberta\, 5004 52 Avenue\, Waskatenau\, Alberta\, T0A 3P0
END:VEVENT
END:VCALENDAR