BEGIN:VCALENDAR
VERSION:2.0
PRODID:-//Victoria Trail Agricultural Society - ECPv6.15.20//NONSGML v1.0//EN
CALSCALE:GREGORIAN
METHOD:PUBLISH
X-WR-CALNAME:Victoria Trail Agricultural Society
X-ORIGINAL-URL:https://victoriatrailag.com
X-WR-CALDESC:Events for Victoria Trail Agricultural Society
REFRESH-INTERVAL;VALUE=DURATION:PT1H
X-Robots-Tag:noindex
X-PUBLISHED-TTL:PT1H
BEGIN:VTIMEZONE
TZID:America/Denver
BEGIN:DAYLIGHT
TZOFFSETFROM:-0700
TZOFFSETTO:-0600
TZNAME:MDT
DTSTART:20250309T090000
END:DAYLIGHT
BEGIN:STANDARD
TZOFFSETFROM:-0600
TZOFFSETTO:-0700
TZNAME:MST
DTSTART:20251102T080000
END:STANDARD
BEGIN:DAYLIGHT
TZOFFSETFROM:-0700
TZOFFSETTO:-0600
TZNAME:MDT
DTSTART:20260308T090000
END:DAYLIGHT
BEGIN:STANDARD
TZOFFSETFROM:-0600
TZOFFSETTO:-0700
TZNAME:MST
DTSTART:20261101T080000
END:STANDARD
BEGIN:DAYLIGHT
TZOFFSETFROM:-0700
TZOFFSETTO:-0600
TZNAME:MDT
DTSTART:20270314T090000
END:DAYLIGHT
BEGIN:STANDARD
TZOFFSETFROM:-0600
TZOFFSETTO:-0700
TZNAME:MST
DTSTART:20271107T080000
END:STANDARD
END:VTIMEZONE
BEGIN:VEVENT
DTSTART;TZID=America/Denver:20260503T100000
DTEND;TZID=America/Denver:20260503T140000
DTSTAMP:20260424T095758
CREATED:20251029T040833Z
LAST-MODIFIED:20260419T044541Z
UID:1482-1777802400-1777816800@victoriatrailag.com
SUMMARY:Newbrook 4H Beef Club
DESCRIPTION:
URL:https://victoriatrailag.com/event/newbrook-4h-horse-club-42/
LOCATION:Waskatenau\, Alberta\, 5004 52 Avenue\, Waskatenau\, Alberta\, T0A 3P0
END:VEVENT
BEGIN:VEVENT
DTSTART;TZID=America/Denver:20260513T183000
DTEND;TZID=America/Denver:20260513T200000
DTSTAMP:20260424T095758
CREATED:20260419T044510Z
LAST-MODIFIED:20260419T044510Z
UID:1550-1778697000-1778702400@victoriatrailag.com
SUMMARY:Newbrook 4H Horse Club
DESCRIPTION:
URL:https://victoriatrailag.com/event/newbrook-4h-horse-club-37/
LOCATION:Waskatenau\, Alberta\, 5004 52 Avenue\, Waskatenau\, Alberta\, T0A 3P0
END:VEVENT
BEGIN:VEVENT
DTSTART;TZID=America/Denver:20260517T100000
DTEND;TZID=America/Denver:20260517T140000
DTSTAMP:20260424T095758
CREATED:20251029T040946Z
LAST-MODIFIED:20251029T040946Z
UID:1484-1779012000-1779026400@victoriatrailag.com
SUMMARY:Newbrook 4H Horse Club
DESCRIPTION:
URL:https://victoriatrailag.com/event/newbrook-4h-horse-club-43/
LOCATION:Waskatenau\, Alberta\, 5004 52 Avenue\, Waskatenau\, Alberta\, T0A 3P0
END:VEVENT
END:VCALENDAR