BEGIN:VCALENDAR
VERSION:2.0
PRODID:-//Victoria Trail Agricultural Society - ECPv6.15.20//NONSGML v1.0//EN
CALSCALE:GREGORIAN
METHOD:PUBLISH
X-WR-CALNAME:Victoria Trail Agricultural Society
X-ORIGINAL-URL:https://victoriatrailag.com
X-WR-CALDESC:Events for Victoria Trail Agricultural Society
REFRESH-INTERVAL;VALUE=DURATION:PT1H
X-Robots-Tag:noindex
X-PUBLISHED-TTL:PT1H
BEGIN:VTIMEZONE
TZID:America/Denver
BEGIN:DAYLIGHT
TZOFFSETFROM:-0700
TZOFFSETTO:-0600
TZNAME:MDT
DTSTART:20250309T090000
END:DAYLIGHT
BEGIN:STANDARD
TZOFFSETFROM:-0600
TZOFFSETTO:-0700
TZNAME:MST
DTSTART:20251102T080000
END:STANDARD
BEGIN:DAYLIGHT
TZOFFSETFROM:-0700
TZOFFSETTO:-0600
TZNAME:MDT
DTSTART:20260308T090000
END:DAYLIGHT
BEGIN:STANDARD
TZOFFSETFROM:-0600
TZOFFSETTO:-0700
TZNAME:MST
DTSTART:20261101T080000
END:STANDARD
BEGIN:DAYLIGHT
TZOFFSETFROM:-0700
TZOFFSETTO:-0600
TZNAME:MDT
DTSTART:20270314T090000
END:DAYLIGHT
BEGIN:STANDARD
TZOFFSETFROM:-0600
TZOFFSETTO:-0700
TZNAME:MST
DTSTART:20271107T080000
END:STANDARD
END:VTIMEZONE
BEGIN:VEVENT
DTSTART;TZID=America/Denver:20260301T100000
DTEND;TZID=America/Denver:20260301T140000
DTSTAMP:20260424T094032
CREATED:20251029T040339Z
LAST-MODIFIED:20251029T040339Z
UID:1474-1772359200-1772373600@victoriatrailag.com
SUMMARY:Newbrook 4H Horse Club
DESCRIPTION:
URL:https://victoriatrailag.com/event/newbrook-4h-horse-club-38/
LOCATION:Waskatenau\, Alberta\, 5004 52 Avenue\, Waskatenau\, Alberta\, T0A 3P0
END:VEVENT
BEGIN:VEVENT
DTSTART;TZID=America/Denver:20260315T100000
DTEND;TZID=America/Denver:20260315T140000
DTSTAMP:20260424T094032
CREATED:20251029T040437Z
LAST-MODIFIED:20251029T040437Z
UID:1476-1773568800-1773583200@victoriatrailag.com
SUMMARY:Newbrook 4H Horse Club
DESCRIPTION:
URL:https://victoriatrailag.com/event/newbrook-4h-horse-club-39/
LOCATION:Waskatenau\, Alberta\, 5004 52 Avenue\, Waskatenau\, Alberta\, T0A 3P0
END:VEVENT
BEGIN:VEVENT
DTSTART;TZID=America/Denver:20260329T100000
DTEND;TZID=America/Denver:20260329T140000
DTSTAMP:20260424T094032
CREATED:20260124T061630Z
LAST-MODIFIED:20260124T061630Z
UID:1542-1774778400-1774792800@victoriatrailag.com
SUMMARY:Newbrook 4H Horse Club
DESCRIPTION:
URL:https://victoriatrailag.com/event/newbrook-4h-horse-club-35/
LOCATION:Waskatenau\, Alberta\, 5004 52 Avenue\, Waskatenau\, Alberta\, T0A 3P0
END:VEVENT
END:VCALENDAR