BEGIN:VCALENDAR
VERSION:2.0
PRODID:-//Victoria Trail Agricultural Society - ECPv6.15.20//NONSGML v1.0//EN
CALSCALE:GREGORIAN
METHOD:PUBLISH
X-ORIGINAL-URL:https://victoriatrailag.com
X-WR-CALDESC:Events for Victoria Trail Agricultural Society
REFRESH-INTERVAL;VALUE=DURATION:PT1H
X-Robots-Tag:noindex
X-PUBLISHED-TTL:PT1H
BEGIN:VTIMEZONE
TZID:America/Denver
BEGIN:DAYLIGHT
TZOFFSETFROM:-0700
TZOFFSETTO:-0600
TZNAME:MDT
DTSTART:20240310T090000
END:DAYLIGHT
BEGIN:STANDARD
TZOFFSETFROM:-0600
TZOFFSETTO:-0700
TZNAME:MST
DTSTART:20241103T080000
END:STANDARD
BEGIN:DAYLIGHT
TZOFFSETFROM:-0700
TZOFFSETTO:-0600
TZNAME:MDT
DTSTART:20250309T090000
END:DAYLIGHT
BEGIN:STANDARD
TZOFFSETFROM:-0600
TZOFFSETTO:-0700
TZNAME:MST
DTSTART:20251102T080000
END:STANDARD
BEGIN:DAYLIGHT
TZOFFSETFROM:-0700
TZOFFSETTO:-0600
TZNAME:MDT
DTSTART:20260308T090000
END:DAYLIGHT
BEGIN:STANDARD
TZOFFSETFROM:-0600
TZOFFSETTO:-0700
TZNAME:MST
DTSTART:20261101T080000
END:STANDARD
END:VTIMEZONE
BEGIN:VEVENT
DTSTART;TZID=America/Denver:20250208T100000
DTEND;TZID=America/Denver:20250208T140000
DTSTAMP:20260425T053503
CREATED:20241030T031514Z
LAST-MODIFIED:20241030T031514Z
UID:1251-1739008800-1739023200@victoriatrailag.com
SUMMARY:NEWBROOK 4H HORSE CLUB
DESCRIPTION:
URL:https://victoriatrailag.com/event/newbrook-4h-horse-club-23/
LOCATION:Waskatenau\, Alberta\, 5004 52 Avenue\, Waskatenau\, Alberta\, T0A 3P0
END:VEVENT
BEGIN:VEVENT
DTSTART;TZID=America/Denver:20250215T130000
DTEND;TZID=America/Denver:20250215T160000
DTSTAMP:20260425T053503
CREATED:20241205T234912Z
LAST-MODIFIED:20250118T221940Z
UID:1285-1739624400-1739635200@victoriatrailag.com
SUMMARY:Youth Introductory Endurance Clinic
DESCRIPTION:Endurance riding is a long-distance sport that tests the fitness and stamina of the horse\, as well as the rider’s horsemanship skills. \nInterested in learning more and finding out how you can get involved? Join the Endurance Riders of Alberta at VTAS Indoor Arena for an introductory endurance clinic this February! \nView the full details.
URL:https://victoriatrailag.com/event/youth-introductory-endurance-clinic/
LOCATION:Alberta
END:VEVENT
BEGIN:VEVENT
DTSTART;TZID=America/Denver:20250216T120000
DTEND;TZID=America/Denver:20250216T140000
DTSTAMP:20260425T053503
CREATED:20250213T031608Z
LAST-MODIFIED:20250213T031608Z
UID:1323-1739707200-1739714400@victoriatrailag.com
SUMMARY:Private Booking
DESCRIPTION:
URL:https://victoriatrailag.com/event/private-booking-43/
LOCATION:Waskatenau\, Alberta\, 5004 52 Avenue\, Waskatenau\, Alberta\, T0A 3P0
END:VEVENT
BEGIN:VEVENT
DTSTART;TZID=America/Denver:20250216T143000
DTEND;TZID=America/Denver:20250216T160000
DTSTAMP:20260425T053503
CREATED:20250214T041739Z
LAST-MODIFIED:20250214T041739Z
UID:1325-1739716200-1739721600@victoriatrailag.com
SUMMARY:Private Booking
DESCRIPTION:
URL:https://victoriatrailag.com/event/private-booking-44/
LOCATION:Waskatenau\, Alberta\, 5004 52 Avenue\, Waskatenau\, Alberta\, T0A 3P0
END:VEVENT
BEGIN:VEVENT
DTSTART;TZID=America/Denver:20250221T130000
DTEND;TZID=America/Denver:20250221T150000
DTSTAMP:20260425T053503
CREATED:20250219T231731Z
LAST-MODIFIED:20250219T231731Z
UID:1329-1740142800-1740150000@victoriatrailag.com
SUMMARY:Private Booking
DESCRIPTION:
URL:https://victoriatrailag.com/event/private-booking-45/
LOCATION:Waskatenau\, Alberta\, 5004 52 Avenue\, Waskatenau\, Alberta\, T0A 3P0
END:VEVENT
BEGIN:VEVENT
DTSTART;TZID=America/Denver:20250222T100000
DTEND;TZID=America/Denver:20250222T140000
DTSTAMP:20260425T053503
CREATED:20241030T031544Z
LAST-MODIFIED:20241030T031544Z
UID:1253-1740218400-1740232800@victoriatrailag.com
SUMMARY:NEWBROOK 4H HORSE CLUB
DESCRIPTION:
URL:https://victoriatrailag.com/event/newbrook-4h-horse-club-24/
LOCATION:Waskatenau\, Alberta\, 5004 52 Avenue\, Waskatenau\, Alberta\, T0A 3P0
END:VEVENT
END:VCALENDAR