BEGIN:VCALENDAR
VERSION:2.0
PRODID:-//Victoria Trail Agricultural Society - ECPv6.15.20//NONSGML v1.0//EN
CALSCALE:GREGORIAN
METHOD:PUBLISH
X-WR-CALNAME:Victoria Trail Agricultural Society
X-ORIGINAL-URL:https://victoriatrailag.com
X-WR-CALDESC:Events for Victoria Trail Agricultural Society
REFRESH-INTERVAL;VALUE=DURATION:PT1H
X-Robots-Tag:noindex
X-PUBLISHED-TTL:PT1H
BEGIN:VTIMEZONE
TZID:America/Denver
BEGIN:DAYLIGHT
TZOFFSETFROM:-0700
TZOFFSETTO:-0600
TZNAME:MDT
DTSTART:20240310T090000
END:DAYLIGHT
BEGIN:STANDARD
TZOFFSETFROM:-0600
TZOFFSETTO:-0700
TZNAME:MST
DTSTART:20241103T080000
END:STANDARD
BEGIN:DAYLIGHT
TZOFFSETFROM:-0700
TZOFFSETTO:-0600
TZNAME:MDT
DTSTART:20250309T090000
END:DAYLIGHT
BEGIN:STANDARD
TZOFFSETFROM:-0600
TZOFFSETTO:-0700
TZNAME:MST
DTSTART:20251102T080000
END:STANDARD
BEGIN:DAYLIGHT
TZOFFSETFROM:-0700
TZOFFSETTO:-0600
TZNAME:MDT
DTSTART:20260308T090000
END:DAYLIGHT
BEGIN:STANDARD
TZOFFSETFROM:-0600
TZOFFSETTO:-0700
TZNAME:MST
DTSTART:20261101T080000
END:STANDARD
END:VTIMEZONE
BEGIN:VEVENT
DTSTART;TZID=America/Denver:20250110T100000
DTEND;TZID=America/Denver:20250110T110000
DTSTAMP:20260425T070809
CREATED:20250109T040110Z
LAST-MODIFIED:20250109T040110Z
UID:1298-1736503200-1736506800@victoriatrailag.com
SUMMARY:Private Booking
DESCRIPTION:
URL:https://victoriatrailag.com/event/private-booking-42/
LOCATION:Waskatenau\, Alberta\, 5004 52 Avenue\, Waskatenau\, Alberta\, T0A 3P0
END:VEVENT
BEGIN:VEVENT
DTSTART;TZID=America/Denver:20250111T100000
DTEND;TZID=America/Denver:20250111T140000
DTSTAMP:20260425T070809
CREATED:20241030T031420Z
LAST-MODIFIED:20241030T031420Z
UID:1247-1736589600-1736604000@victoriatrailag.com
SUMMARY:NEWBROOK 4H HORSE CLUB
DESCRIPTION:
URL:https://victoriatrailag.com/event/newbrook-4h-horse-club-21/
LOCATION:Waskatenau\, Alberta\, 5004 52 Avenue\, Waskatenau\, Alberta\, T0A 3P0
END:VEVENT
BEGIN:VEVENT
DTSTART;TZID=America/Denver:20250125T090000
DTEND;TZID=America/Denver:20250125T170000
DTSTAMP:20260425T070809
CREATED:20241030T032145Z
LAST-MODIFIED:20241030T032145Z
UID:1271-1737795600-1737824400@victoriatrailag.com
SUMMARY:BELLIS CINCH CLUB
DESCRIPTION:
URL:https://victoriatrailag.com/event/bellis-cinch-club-2/
LOCATION:Waskatenau\, Alberta\, 5004 52 Avenue\, Waskatenau\, Alberta\, T0A 3P0
END:VEVENT
END:VCALENDAR