BEGIN:VCALENDAR
VERSION:2.0
PRODID:-//Victoria Trail Agricultural Society - ECPv6.15.20//NONSGML v1.0//EN
CALSCALE:GREGORIAN
METHOD:PUBLISH
X-WR-CALNAME:Victoria Trail Agricultural Society
X-ORIGINAL-URL:https://victoriatrailag.com
X-WR-CALDESC:Events for Victoria Trail Agricultural Society
REFRESH-INTERVAL;VALUE=DURATION:PT1H
X-Robots-Tag:noindex
X-PUBLISHED-TTL:PT1H
BEGIN:VTIMEZONE
TZID:America/Denver
BEGIN:DAYLIGHT
TZOFFSETFROM:-0700
TZOFFSETTO:-0600
TZNAME:MDT
DTSTART:20230312T090000
END:DAYLIGHT
BEGIN:STANDARD
TZOFFSETFROM:-0600
TZOFFSETTO:-0700
TZNAME:MST
DTSTART:20231105T080000
END:STANDARD
BEGIN:DAYLIGHT
TZOFFSETFROM:-0700
TZOFFSETTO:-0600
TZNAME:MDT
DTSTART:20240310T090000
END:DAYLIGHT
BEGIN:STANDARD
TZOFFSETFROM:-0600
TZOFFSETTO:-0700
TZNAME:MST
DTSTART:20241103T080000
END:STANDARD
BEGIN:DAYLIGHT
TZOFFSETFROM:-0700
TZOFFSETTO:-0600
TZNAME:MDT
DTSTART:20250309T090000
END:DAYLIGHT
BEGIN:STANDARD
TZOFFSETFROM:-0600
TZOFFSETTO:-0700
TZNAME:MST
DTSTART:20251102T080000
END:STANDARD
END:VTIMEZONE
BEGIN:VEVENT
DTSTART;TZID=America/Denver:20241205T130000
DTEND;TZID=America/Denver:20241205T150000
DTSTAMP:20260425T082958
CREATED:20241204T011220Z
LAST-MODIFIED:20241204T011220Z
UID:1283-1733403600-1733410800@victoriatrailag.com
SUMMARY:Private Booking
DESCRIPTION:
URL:https://victoriatrailag.com/event/private-booking-40/
LOCATION:Waskatenau\, Alberta\, 5004 52 Avenue\, Waskatenau\, Alberta\, T0A 3P0
END:VEVENT
BEGIN:VEVENT
DTSTART;TZID=America/Denver:20241206T180000
DTEND;TZID=America/Denver:20241206T210000
DTSTAMP:20260425T082958
CREATED:20241030T032253Z
LAST-MODIFIED:20241030T032253Z
UID:1275-1733508000-1733518800@victoriatrailag.com
SUMMARY:WASKATENAU LIGHT UP
DESCRIPTION:
URL:https://victoriatrailag.com/event/waskatenau-light-up/
LOCATION:Waskatenau\, Alberta\, 5004 52 Avenue\, Waskatenau\, Alberta\, T0A 3P0
END:VEVENT
BEGIN:VEVENT
DTSTART;TZID=America/Denver:20241207T090000
DTEND;TZID=America/Denver:20241207T170000
DTSTAMP:20260425T082958
CREATED:20241030T032123Z
LAST-MODIFIED:20241030T032123Z
UID:1269-1733562000-1733590800@victoriatrailag.com
SUMMARY:BELLIS CINCH CLUB
DESCRIPTION:
URL:https://victoriatrailag.com/event/bellis-cinch-club/
LOCATION:Waskatenau\, Alberta\, 5004 52 Avenue\, Waskatenau\, Alberta\, T0A 3P0
END:VEVENT
BEGIN:VEVENT
DTSTART;TZID=America/Denver:20241208T100000
DTEND;TZID=America/Denver:20241208T140000
DTSTAMP:20260425T082958
CREATED:20241124T045123Z
LAST-MODIFIED:20241124T045123Z
UID:1281-1733652000-1733666400@victoriatrailag.com
SUMMARY:Newbrook 4H Horse Club
DESCRIPTION:
URL:https://victoriatrailag.com/event/newbrook-4h-horse-club-31/
LOCATION:Waskatenau\, Alberta\, 5004 52 Avenue\, Waskatenau\, Alberta\, T0A 3P0
END:VEVENT
BEGIN:VEVENT
DTSTART;TZID=America/Denver:20241214T100000
DTEND;TZID=America/Denver:20241214T140000
DTSTAMP:20260425T082958
CREATED:20241030T031144Z
LAST-MODIFIED:20241030T031144Z
UID:1243-1734170400-1734184800@victoriatrailag.com
SUMMARY:NEWBROOK 4H HORSE CLUB
DESCRIPTION:
URL:https://victoriatrailag.com/event/newbrook-4h-horse-club-19/
LOCATION:Waskatenau\, Alberta\, 5004 52 Avenue\, Waskatenau\, Alberta\, T0A 3P0
END:VEVENT
BEGIN:VEVENT
DTSTART;TZID=America/Denver:20241221T090000
DTEND;TZID=America/Denver:20241221T130000
DTSTAMP:20260425T082958
CREATED:20241030T031340Z
LAST-MODIFIED:20241030T031340Z
UID:1245-1734771600-1734786000@victoriatrailag.com
SUMMARY:NEWBROOK 4H HORSE CLUB
DESCRIPTION:
URL:https://victoriatrailag.com/event/newbrook-4h-horse-club-20/
LOCATION:Waskatenau\, Alberta\, 5004 52 Avenue\, Waskatenau\, Alberta\, T0A 3P0
END:VEVENT
BEGIN:VEVENT
DTSTART;TZID=America/Denver:20241221T130000
DTEND;TZID=America/Denver:20241221T150000
DTSTAMP:20260425T082958
CREATED:20241001T190917Z
LAST-MODIFIED:20241001T190917Z
UID:1232-1734786000-1734793200@victoriatrailag.com
SUMMARY:Private Booking
DESCRIPTION:
URL:https://victoriatrailag.com/event/private-booking-28/
LOCATION:Waskatenau\, Alberta\, 5004 52 Avenue\, Waskatenau\, Alberta\, T0A 3P0
END:VEVENT
BEGIN:VEVENT
DTSTART;TZID=America/Denver:20241230T140000
DTEND;TZID=America/Denver:20241230T150000
DTSTAMP:20260425T082958
CREATED:20241226T230148Z
LAST-MODIFIED:20241226T230148Z
UID:1292-1735567200-1735570800@victoriatrailag.com
SUMMARY:Private Booking
DESCRIPTION:
URL:https://victoriatrailag.com/event/private-booking-41/
LOCATION:Waskatenau\, Alberta\, 5004 52 Avenue\, Waskatenau\, Alberta\, T0A 3P0
END:VEVENT
END:VCALENDAR