BEGIN:VCALENDAR
VERSION:2.0
PRODID:-//Victoria Trail Agricultural Society - ECPv6.15.20//NONSGML v1.0//EN
CALSCALE:GREGORIAN
METHOD:PUBLISH
X-ORIGINAL-URL:https://victoriatrailag.com
X-WR-CALDESC:Events for Victoria Trail Agricultural Society
REFRESH-INTERVAL;VALUE=DURATION:PT1H
X-Robots-Tag:noindex
X-PUBLISHED-TTL:PT1H
BEGIN:VTIMEZONE
TZID:America/Denver
BEGIN:DAYLIGHT
TZOFFSETFROM:-0700
TZOFFSETTO:-0600
TZNAME:MDT
DTSTART:20250309T090000
END:DAYLIGHT
BEGIN:STANDARD
TZOFFSETFROM:-0600
TZOFFSETTO:-0700
TZNAME:MST
DTSTART:20251102T080000
END:STANDARD
BEGIN:DAYLIGHT
TZOFFSETFROM:-0700
TZOFFSETTO:-0600
TZNAME:MDT
DTSTART:20260308T090000
END:DAYLIGHT
BEGIN:STANDARD
TZOFFSETFROM:-0600
TZOFFSETTO:-0700
TZNAME:MST
DTSTART:20261101T080000
END:STANDARD
BEGIN:DAYLIGHT
TZOFFSETFROM:-0700
TZOFFSETTO:-0600
TZNAME:MDT
DTSTART:20270314T090000
END:DAYLIGHT
BEGIN:STANDARD
TZOFFSETFROM:-0600
TZOFFSETTO:-0700
TZNAME:MST
DTSTART:20271107T080000
END:STANDARD
END:VTIMEZONE
BEGIN:VEVENT
DTSTART;TZID=America/Denver:20260807T080000
DTEND;TZID=America/Denver:20260807T200000
DTSTAMP:20260425T100701
CREATED:20251029T000518Z
LAST-MODIFIED:20251029T000518Z
UID:1445-1786089600-1786132800@victoriatrailag.com
SUMMARY:Wask Fair Days - No Riding
DESCRIPTION:
URL:https://victoriatrailag.com/event/wask-fair-days-no-riding-2/
LOCATION:Waskatenau\, Alberta\, 5004 52 Avenue\, Waskatenau\, Alberta\, T0A 3P0
END:VEVENT
BEGIN:VEVENT
DTSTART;TZID=America/Denver:20260808T080000
DTEND;TZID=America/Denver:20260808T200000
DTSTAMP:20260425T100701
CREATED:20251029T000546Z
LAST-MODIFIED:20251029T000546Z
UID:1447-1786176000-1786219200@victoriatrailag.com
SUMMARY:Wask Fair Days - No Riding
DESCRIPTION:
URL:https://victoriatrailag.com/event/wask-fair-days-no-riding-3/
LOCATION:Waskatenau\, Alberta\, 5004 52 Avenue\, Waskatenau\, Alberta\, T0A 3P0
END:VEVENT
BEGIN:VEVENT
DTSTART;TZID=America/Denver:20260809T080000
DTEND;TZID=America/Denver:20260809T200000
DTSTAMP:20260425T100701
CREATED:20251029T000614Z
LAST-MODIFIED:20251029T000614Z
UID:1449-1786262400-1786305600@victoriatrailag.com
SUMMARY:Wask Fair Days - No Riding
DESCRIPTION:
URL:https://victoriatrailag.com/event/wask-fair-days-no-riding-4/
LOCATION:Waskatenau\, Alberta\, 5004 52 Avenue\, Waskatenau\, Alberta\, T0A 3P0
END:VEVENT
BEGIN:VEVENT
DTSTART;TZID=America/Denver:20261010T080000
DTEND;TZID=America/Denver:20261010T180000
DTSTAMP:20260425T100701
CREATED:20251209T050820Z
LAST-MODIFIED:20251209T050820Z
UID:1517-1791619200-1791655200@victoriatrailag.com
SUMMARY:Private Booking
DESCRIPTION:
URL:https://victoriatrailag.com/event/private-booking-48/
LOCATION:Waskatenau\, Alberta\, 5004 52 Avenue\, Waskatenau\, Alberta\, T0A 3P0
END:VEVENT
BEGIN:VEVENT
DTSTART;TZID=America/Denver:20261011T080000
DTEND;TZID=America/Denver:20261011T180000
DTSTAMP:20260425T100701
CREATED:20251209T050901Z
LAST-MODIFIED:20251209T050901Z
UID:1519-1791705600-1791741600@victoriatrailag.com
SUMMARY:Private Booking
DESCRIPTION:
URL:https://victoriatrailag.com/event/private-booking-49/
LOCATION:Waskatenau\, Alberta\, 5004 52 Avenue\, Waskatenau\, Alberta\, T0A 3P0
END:VEVENT
END:VCALENDAR