BEGIN:VCALENDAR
VERSION:2.0
PRODID:-//Victoria Trail Agricultural Society - ECPv6.15.20//NONSGML v1.0//EN
CALSCALE:GREGORIAN
METHOD:PUBLISH
X-WR-CALNAME:Victoria Trail Agricultural Society
X-ORIGINAL-URL:https://victoriatrailag.com
X-WR-CALDESC:Events for Victoria Trail Agricultural Society
REFRESH-INTERVAL;VALUE=DURATION:PT1H
X-Robots-Tag:noindex
X-PUBLISHED-TTL:PT1H
BEGIN:VTIMEZONE
TZID:America/Denver
BEGIN:DAYLIGHT
TZOFFSETFROM:-0700
TZOFFSETTO:-0600
TZNAME:MDT
DTSTART:20220313T090000
END:DAYLIGHT
BEGIN:STANDARD
TZOFFSETFROM:-0600
TZOFFSETTO:-0700
TZNAME:MST
DTSTART:20221106T080000
END:STANDARD
BEGIN:DAYLIGHT
TZOFFSETFROM:-0700
TZOFFSETTO:-0600
TZNAME:MDT
DTSTART:20230312T090000
END:DAYLIGHT
BEGIN:STANDARD
TZOFFSETFROM:-0600
TZOFFSETTO:-0700
TZNAME:MST
DTSTART:20231105T080000
END:STANDARD
BEGIN:DAYLIGHT
TZOFFSETFROM:-0700
TZOFFSETTO:-0600
TZNAME:MDT
DTSTART:20240310T090000
END:DAYLIGHT
BEGIN:STANDARD
TZOFFSETFROM:-0600
TZOFFSETTO:-0700
TZNAME:MST
DTSTART:20241103T080000
END:STANDARD
BEGIN:DAYLIGHT
TZOFFSETFROM:-0700
TZOFFSETTO:-0600
TZNAME:MDT
DTSTART:20250309T090000
END:DAYLIGHT
BEGIN:STANDARD
TZOFFSETFROM:-0600
TZOFFSETTO:-0700
TZNAME:MST
DTSTART:20251102T080000
END:STANDARD
END:VTIMEZONE
BEGIN:VEVENT
DTSTART;TZID=America/Denver:20240107T140000
DTEND;TZID=America/Denver:20240107T150000
DTSTAMP:20260425T200421
CREATED:20240104T060458Z
LAST-MODIFIED:20240104T060458Z
UID:1088-1704636000-1704639600@victoriatrailag.com
SUMMARY:Private Booking
DESCRIPTION:
URL:https://victoriatrailag.com/event/private-booking-31/
LOCATION:Waskatenau\, Alberta\, 5004 52 Avenue\, Waskatenau\, Alberta\, T0A 3P0
END:VEVENT
BEGIN:VEVENT
DTSTART;TZID=America/Denver:20240107T090000
DTEND;TZID=America/Denver:20240107T140000
DTSTAMP:20260425T200421
CREATED:20231125T180902Z
LAST-MODIFIED:20231125T180902Z
UID:1029-1704618000-1704636000@victoriatrailag.com
SUMMARY:Newbrook 4H Horse Club
DESCRIPTION:
URL:https://victoriatrailag.com/event/newbrook-4h-horse-club-5/
LOCATION:Waskatenau\, Alberta\, 5004 52 Avenue\, Waskatenau\, Alberta\, T0A 3P0
END:VEVENT
BEGIN:VEVENT
DTSTART;TZID=America/Denver:20240103T080000
DTEND;TZID=America/Denver:20240103T200000
DTSTAMP:20260425T200421
CREATED:20231203T045053Z
LAST-MODIFIED:20231203T045053Z
UID:1061-1704268800-1704312000@victoriatrailag.com
SUMMARY:Private Booking
DESCRIPTION:
URL:https://victoriatrailag.com/event/private-booking-21/
LOCATION:Waskatenau\, Alberta\, 5004 52 Avenue\, Waskatenau\, Alberta\, T0A 3P0
END:VEVENT
BEGIN:VEVENT
DTSTART;TZID=America/Denver:20231229T120000
DTEND;TZID=America/Denver:20231229T140000
DTSTAMP:20260425T200421
CREATED:20231224T183715Z
LAST-MODIFIED:20231224T183715Z
UID:1085-1703851200-1703858400@victoriatrailag.com
SUMMARY:Private Booking
DESCRIPTION:
URL:https://victoriatrailag.com/event/private-booking-30/
LOCATION:Waskatenau\, Alberta\, 5004 52 Avenue\, Waskatenau\, Alberta\, T0A 3P0
END:VEVENT
BEGIN:VEVENT
DTSTART;TZID=America/Denver:20231217T090000
DTEND;TZID=America/Denver:20231217T140000
DTSTAMP:20260425T200421
CREATED:20231023T051158Z
LAST-MODIFIED:20231023T051158Z
UID:1001-1702803600-1702821600@victoriatrailag.com
SUMMARY:Newbrook 4H Horse Club
DESCRIPTION:
URL:https://victoriatrailag.com/event/newbrook-4h-horse-club-4/
LOCATION:Waskatenau\, Alberta\, 5004 52 Avenue\, Waskatenau\, Alberta\, T0A 3P0
END:VEVENT
BEGIN:VEVENT
DTSTART;TZID=America/Denver:20231216T120000
DTEND;TZID=America/Denver:20231216T150000
DTSTAMP:20260425T200421
CREATED:20231029T165820Z
LAST-MODIFIED:20231029T165820Z
UID:1003-1702728000-1702738800@victoriatrailag.com
SUMMARY:Private Booking
DESCRIPTION:
URL:https://victoriatrailag.com/event/private-booking-17/
LOCATION:Waskatenau\, Alberta\, 5004 52 Avenue\, Waskatenau\, Alberta\, T0A 3P0
END:VEVENT
BEGIN:VEVENT
DTSTART;TZID=America/Denver:20231214T080000
DTEND;TZID=America/Denver:20231214T200000
DTSTAMP:20260425T200421
CREATED:20231117T182932Z
LAST-MODIFIED:20231117T182932Z
UID:1016-1702540800-1702584000@victoriatrailag.com
SUMMARY:Private Booking
DESCRIPTION:
URL:https://victoriatrailag.com/event/private-booking-20/
LOCATION:Waskatenau\, Alberta\, 5004 52 Avenue\, Waskatenau\, Alberta\, T0A 3P0
END:VEVENT
BEGIN:VEVENT
DTSTART;TZID=America/Denver:20231203T090000
DTEND;TZID=America/Denver:20231203T140000
DTSTAMP:20260425T200421
CREATED:20231023T051022Z
LAST-MODIFIED:20231023T051022Z
UID:999-1701594000-1701612000@victoriatrailag.com
SUMMARY:Newbrook 4H Horse Club
DESCRIPTION:
URL:https://victoriatrailag.com/event/newbrook-4h-horse-club-3/
LOCATION:Waskatenau\, Alberta\, 5004 52 Avenue\, Waskatenau\, Alberta\, T0A 3P0
END:VEVENT
BEGIN:VEVENT
DTSTART;TZID=America/Denver:20231201T180000
DTEND;TZID=America/Denver:20231201T203000
DTSTAMP:20260425T200421
CREATED:20231118T045854Z
LAST-MODIFIED:20231118T045854Z
UID:1025-1701453600-1701462600@victoriatrailag.com
SUMMARY:Xmas Lightup
DESCRIPTION:
URL:https://victoriatrailag.com/event/xmas-lightup/
LOCATION:Waskatenau\, Alberta\, 5004 52 Avenue\, Waskatenau\, Alberta\, T0A 3P0
END:VEVENT
BEGIN:VEVENT
DTSTART;TZID=America/Denver:20231130T080000
DTEND;TZID=America/Denver:20231130T200000
DTSTAMP:20260425T200421
CREATED:20231117T182714Z
LAST-MODIFIED:20231117T182714Z
UID:1014-1701331200-1701374400@victoriatrailag.com
SUMMARY:Private Booking
DESCRIPTION:
URL:https://victoriatrailag.com/event/private-booking-19/
LOCATION:Waskatenau\, Alberta\, 5004 52 Avenue\, Waskatenau\, Alberta\, T0A 3P0
END:VEVENT
BEGIN:VEVENT
DTSTART;TZID=America/Denver:20231125T090000
DTEND;TZID=America/Denver:20231125T170000
DTSTAMP:20260425T200421
CREATED:20231031T030322Z
LAST-MODIFIED:20231031T030322Z
UID:1005-1700902800-1700931600@victoriatrailag.com
SUMMARY:Regional 4H Clinic
DESCRIPTION:
URL:https://victoriatrailag.com/event/regional-4h-clinic/
LOCATION:Waskatenau\, Alberta\, 5004 52 Avenue\, Waskatenau\, Alberta\, T0A 3P0
END:VEVENT
BEGIN:VEVENT
DTSTART;TZID=America/Denver:20231119T090000
DTEND;TZID=America/Denver:20231119T140000
DTSTAMP:20260425T200421
CREATED:20231118T050307Z
LAST-MODIFIED:20231118T050307Z
UID:1027-1700384400-1700402400@victoriatrailag.com
SUMMARY:Newbrook 4H Horse Club
DESCRIPTION:
URL:https://victoriatrailag.com/event/newbrook-4h-horse-club-2/
LOCATION:Waskatenau\, Alberta\, 5004 52 Avenue\, Waskatenau\, Alberta\, T0A 3P0
END:VEVENT
BEGIN:VEVENT
DTSTART;TZID=America/Denver:20231116T080000
DTEND;TZID=America/Denver:20231116T190000
DTSTAMP:20260425T200421
CREATED:20231110T055835Z
LAST-MODIFIED:20231110T055835Z
UID:1011-1700121600-1700161200@victoriatrailag.com
SUMMARY:Private Booking
DESCRIPTION:
URL:https://victoriatrailag.com/event/private-booking-18/
LOCATION:Waskatenau\, Alberta\, 5004 52 Avenue\, Waskatenau\, Alberta\, T0A 3P0
END:VEVENT
BEGIN:VEVENT
DTSTART;TZID=America/Denver:20231105T090000
DTEND;TZID=America/Denver:20231105T140000
DTSTAMP:20260425T200421
CREATED:20231023T050636Z
LAST-MODIFIED:20231023T050636Z
UID:995-1699174800-1699192800@victoriatrailag.com
SUMMARY:Newbrook 4H Horse Club
DESCRIPTION:
URL:https://victoriatrailag.com/event/newbrook-4h-horse-club/
LOCATION:Waskatenau\, Alberta\, 5004 52 Avenue\, Waskatenau\, Alberta\, T0A 3P0
END:VEVENT
BEGIN:VEVENT
DTSTART;TZID=America/Denver:20230822T160000
DTEND;TZID=America/Denver:20230822T210000
DTSTAMP:20260425T200421
CREATED:20230817T184445Z
LAST-MODIFIED:20230817T184445Z
UID:993-1692720000-1692738000@victoriatrailag.com
SUMMARY:Newbrook Range Riders
DESCRIPTION:
URL:https://victoriatrailag.com/event/newbrook-range-riders-3/
LOCATION:Waskatenau\, Alberta\, 5004 52 Avenue\, Waskatenau\, Alberta\, T0A 3P0
END:VEVENT
BEGIN:VEVENT
DTSTART;TZID=America/Denver:20230822T160000
DTEND;TZID=America/Denver:20230822T210000
DTSTAMP:20260425T200421
CREATED:20230817T121809Z
LAST-MODIFIED:20230817T121809Z
UID:991-1692720000-1692738000@victoriatrailag.com
SUMMARY:Newbrook Range Riders
DESCRIPTION:
URL:https://victoriatrailag.com/event/newbrook-range-riders-2/
LOCATION:VTAS Indoor Arena\, Waskatenau
END:VEVENT
BEGIN:VEVENT
DTSTART;TZID=America/Denver:20230813T090000
DTEND;TZID=America/Denver:20230813T210000
DTSTAMP:20260425T200421
CREATED:20230119T044856Z
LAST-MODIFIED:20230119T044856Z
UID:835-1691917200-1691960400@victoriatrailag.com
SUMMARY:Waskatenau Fair Days
DESCRIPTION:
URL:https://victoriatrailag.com/event/waskatenau-fair-days-3/
LOCATION:Waskatenau\, Alberta\, 5004 52 Avenue\, Waskatenau\, Alberta\, T0A 3P0
END:VEVENT
BEGIN:VEVENT
DTSTART;TZID=America/Denver:20230812T090000
DTEND;TZID=America/Denver:20230812T210000
DTSTAMP:20260425T200421
CREATED:20230119T044758Z
LAST-MODIFIED:20230119T044758Z
UID:833-1691830800-1691874000@victoriatrailag.com
SUMMARY:Waskatenau Fair Days
DESCRIPTION:
URL:https://victoriatrailag.com/event/waskatenau-fair-days-2/
LOCATION:Waskatenau\, Alberta\, 5004 52 Avenue\, Waskatenau\, Alberta\, T0A 3P0
END:VEVENT
BEGIN:VEVENT
DTSTART;TZID=America/Denver:20230811T090000
DTEND;TZID=America/Denver:20230811T210000
DTSTAMP:20260425T200421
CREATED:20230119T044643Z
LAST-MODIFIED:20230119T044643Z
UID:831-1691744400-1691787600@victoriatrailag.com
SUMMARY:Waskatenau Fair Days
DESCRIPTION:
URL:https://victoriatrailag.com/event/waskatenau-fair-days/
LOCATION:Waskatenau\, Alberta\, 5004 52 Avenue\, Waskatenau\, Alberta\, T0A 3P0
END:VEVENT
BEGIN:VEVENT
DTSTART;TZID=America/Denver:20230609T090000
DTEND;TZID=America/Denver:20230609T210000
DTSTAMP:20260425T200421
CREATED:20230119T044337Z
LAST-MODIFIED:20230119T044337Z
UID:829-1686301200-1686344400@victoriatrailag.com
SUMMARY:Bellis 4H Achievement Day
DESCRIPTION:
URL:https://victoriatrailag.com/event/bellis-4h-achievement-day-2/
LOCATION:Waskatenau\, Alberta\, 5004 52 Avenue\, Waskatenau\, Alberta\, T0A 3P0
END:VEVENT
BEGIN:VEVENT
DTSTART;TZID=America/Denver:20230608T090000
DTEND;TZID=America/Denver:20230608T210000
DTSTAMP:20260425T200421
CREATED:20230119T044029Z
LAST-MODIFIED:20230119T044029Z
UID:827-1686214800-1686258000@victoriatrailag.com
SUMMARY:Bellis 4H Setup. No riding
DESCRIPTION:
URL:https://victoriatrailag.com/event/bellis-4h-setup-no-riding/
LOCATION:Waskatenau\, Alberta\, 5004 52 Avenue\, Waskatenau\, Alberta\, T0A 3P0
END:VEVENT
BEGIN:VEVENT
DTSTART;TZID=America/Denver:20230607T090000
DTEND;TZID=America/Denver:20230607T210000
DTSTAMP:20260425T200421
CREATED:20230522T132801Z
LAST-MODIFIED:20230522T132801Z
UID:931-1686128400-1686171600@victoriatrailag.com
SUMMARY:Bellis 4H Setup for Achievement Day
DESCRIPTION:
URL:https://victoriatrailag.com/event/bellis-4h-setup-for-achievement-day/
LOCATION:Waskatenau\, Alberta\, 5004 52 Avenue\, Waskatenau\, Alberta\, T0A 3P0
END:VEVENT
BEGIN:VEVENT
DTSTART;TZID=America/Denver:20230603T090000
DTEND;TZID=America/Denver:20230603T170000
DTSTAMP:20260425T200421
CREATED:20221109T063117Z
LAST-MODIFIED:20221109T063117Z
UID:768-1685782800-1685811600@victoriatrailag.com
SUMMARY:Newbrook Horse Club Achievement Day
DESCRIPTION:
URL:https://victoriatrailag.com/event/newbrook-horse-club-achievement-day/
LOCATION:Waskatenau\, Alberta\, 5004 52 Avenue\, Waskatenau\, Alberta\, T0A 3P0
END:VEVENT
BEGIN:VEVENT
DTSTART;TZID=America/Denver:20230602T090000
DTEND;TZID=America/Denver:20230602T210000
DTSTAMP:20260425T200421
CREATED:20221102T040505Z
LAST-MODIFIED:20221102T040505Z
UID:735-1685696400-1685739600@victoriatrailag.com
SUMMARY:Newbrook 4H
DESCRIPTION:
URL:https://victoriatrailag.com/event/newbrook-4h-4/
LOCATION:Waskatenau\, Alberta\, 5004 52 Avenue\, Waskatenau\, Alberta\, T0A 3P0
END:VEVENT
BEGIN:VEVENT
DTSTART;TZID=America/Denver:20230601T090000
DTEND;TZID=America/Denver:20230601T210000
DTSTAMP:20260425T200421
CREATED:20221102T040430Z
LAST-MODIFIED:20221102T040430Z
UID:733-1685610000-1685653200@victoriatrailag.com
SUMMARY:Newbrook 4H
DESCRIPTION:
URL:https://victoriatrailag.com/event/newbrook-4h-3/
LOCATION:Waskatenau\, Alberta\, 5004 52 Avenue\, Waskatenau\, Alberta\, T0A 3P0
END:VEVENT
BEGIN:VEVENT
DTSTART;TZID=America/Denver:20230528T140000
DTEND;TZID=America/Denver:20230528T200000
DTSTAMP:20260425T200421
CREATED:20230522T133519Z
LAST-MODIFIED:20230522T133519Z
UID:933-1685282400-1685304000@victoriatrailag.com
SUMMARY:Washing Arena
DESCRIPTION:
URL:https://victoriatrailag.com/event/washing-arena/
LOCATION:Waskatenau\, Alberta\, 5004 52 Avenue\, Waskatenau\, Alberta\, T0A 3P0
END:VEVENT
BEGIN:VEVENT
DTSTART;TZID=America/Denver:20230528T090000
DTEND;TZID=America/Denver:20230528T140000
DTSTAMP:20260425T200421
CREATED:20221109T062745Z
LAST-MODIFIED:20221109T062745Z
UID:766-1685264400-1685282400@victoriatrailag.com
SUMMARY:Newbrook Horse Club
DESCRIPTION:
URL:https://victoriatrailag.com/event/newbrook-horse-club-13/
LOCATION:Waskatenau\, Alberta\, 5004 52 Avenue\, Waskatenau\, Alberta\, T0A 3P0
END:VEVENT
BEGIN:VEVENT
DTSTART;TZID=America/Denver:20230514T090000
DTEND;TZID=America/Denver:20230514T140000
DTSTAMP:20260425T200421
CREATED:20221109T062718Z
LAST-MODIFIED:20221109T062718Z
UID:764-1684054800-1684072800@victoriatrailag.com
SUMMARY:Newbrook Horse Club
DESCRIPTION:
URL:https://victoriatrailag.com/event/newbrook-horse-club-12/
LOCATION:Waskatenau\, Alberta\, 5004 52 Avenue\, Waskatenau\, Alberta\, T0A 3P0
END:VEVENT
BEGIN:VEVENT
DTSTART;TZID=America/Denver:20230510T170000
DTEND;TZID=America/Denver:20230510T210000
DTSTAMP:20260425T200421
CREATED:20230414T152718Z
LAST-MODIFIED:20230414T152718Z
UID:911-1683738000-1683752400@victoriatrailag.com
SUMMARY:Newbrook Range Riders
DESCRIPTION:
URL:https://victoriatrailag.com/event/newbrook-range-riders/
LOCATION:Waskatenau\, Alberta\, 5004 52 Avenue\, Waskatenau\, Alberta\, T0A 3P0
END:VEVENT
BEGIN:VEVENT
DTSTART;TZID=America/Denver:20230430T090000
DTEND;TZID=America/Denver:20230430T140000
DTSTAMP:20260425T200421
CREATED:20221109T062638Z
LAST-MODIFIED:20221109T062638Z
UID:762-1682845200-1682863200@victoriatrailag.com
SUMMARY:Newbrook Horse Club
DESCRIPTION:
URL:https://victoriatrailag.com/event/newbrook-horse-club-11/
LOCATION:Waskatenau\, Alberta\, 5004 52 Avenue\, Waskatenau\, Alberta\, T0A 3P0
END:VEVENT
END:VCALENDAR