BEGIN:VCALENDAR
VERSION:2.0
PRODID:-//Victoria Trail Agricultural Society - ECPv6.15.20//NONSGML v1.0//EN
CALSCALE:GREGORIAN
METHOD:PUBLISH
X-WR-CALNAME:Victoria Trail Agricultural Society
X-ORIGINAL-URL:https://victoriatrailag.com
X-WR-CALDESC:Events for Victoria Trail Agricultural Society
REFRESH-INTERVAL;VALUE=DURATION:PT1H
X-Robots-Tag:noindex
X-PUBLISHED-TTL:PT1H
BEGIN:VTIMEZONE
TZID:America/Denver
BEGIN:DAYLIGHT
TZOFFSETFROM:-0700
TZOFFSETTO:-0600
TZNAME:MDT
DTSTART:20230312T090000
END:DAYLIGHT
BEGIN:STANDARD
TZOFFSETFROM:-0600
TZOFFSETTO:-0700
TZNAME:MST
DTSTART:20231105T080000
END:STANDARD
BEGIN:DAYLIGHT
TZOFFSETFROM:-0700
TZOFFSETTO:-0600
TZNAME:MDT
DTSTART:20240310T090000
END:DAYLIGHT
BEGIN:STANDARD
TZOFFSETFROM:-0600
TZOFFSETTO:-0700
TZNAME:MST
DTSTART:20241103T080000
END:STANDARD
BEGIN:DAYLIGHT
TZOFFSETFROM:-0700
TZOFFSETTO:-0600
TZNAME:MDT
DTSTART:20250309T090000
END:DAYLIGHT
BEGIN:STANDARD
TZOFFSETFROM:-0600
TZOFFSETTO:-0700
TZNAME:MST
DTSTART:20251102T080000
END:STANDARD
END:VTIMEZONE
BEGIN:VEVENT
DTSTART;TZID=America/Denver:20241109T100000
DTEND;TZID=America/Denver:20241109T140000
DTSTAMP:20260425T084825
CREATED:20241105T155239Z
LAST-MODIFIED:20241105T155239Z
UID:1277-1731146400-1731160800@victoriatrailag.com
SUMMARY:Newbrook 4H Horse Club
DESCRIPTION:
URL:https://victoriatrailag.com/event/newbrook-4h-horse-club-17/
LOCATION:Waskatenau\, Alberta\, 5004 52 Avenue\, Waskatenau\, Alberta\, T0A 3P0
END:VEVENT
BEGIN:VEVENT
DTSTART;TZID=America/Denver:20241020T110000
DTEND;TZID=America/Denver:20241020T170000
DTSTAMP:20260425T084825
CREATED:20240913T163406Z
LAST-MODIFIED:20240913T163406Z
UID:1228-1729422000-1729443600@victoriatrailag.com
SUMMARY:Newbrook 4H Horse Club
DESCRIPTION:
URL:https://victoriatrailag.com/event/newbrook-4h-horse-club-16/
LOCATION:Waskatenau\, Alberta\, 5004 52 Avenue\, Waskatenau\, Alberta\, T0A 3P0
END:VEVENT
BEGIN:VEVENT
DTSTART;TZID=America/Denver:20241006T110000
DTEND;TZID=America/Denver:20241006T170000
DTSTAMP:20260425T084825
CREATED:20240913T163256Z
LAST-MODIFIED:20240913T163256Z
UID:1226-1728212400-1728234000@victoriatrailag.com
SUMMARY:Newbrook 4H Horse Club
DESCRIPTION:
URL:https://victoriatrailag.com/event/newbrook-4h-horse-club-15/
LOCATION:Waskatenau\, Alberta\, 5004 52 Avenue\, Waskatenau\, Alberta\, T0A 3P0
END:VEVENT
BEGIN:VEVENT
DTSTART;TZID=America/Denver:20241001T080000
DTEND;TZID=America/Denver:20241001T170000
DTSTAMP:20260425T084825
CREATED:20240913T163542Z
LAST-MODIFIED:20240913T163542Z
UID:1230-1727769600-1727802000@victoriatrailag.com
SUMMARY:Arena Membership Renewal
DESCRIPTION:
URL:https://victoriatrailag.com/event/arena-membership-renewal/
LOCATION:Waskatenau\, Alberta\, 5004 52 Avenue\, Waskatenau\, Alberta\, T0A 3P0
END:VEVENT
BEGIN:VEVENT
DTSTART;VALUE=DATE:20240815
DTEND;VALUE=DATE:20240822
DTSTAMP:20260425T084825
CREATED:20240813T142700Z
LAST-MODIFIED:20240813T142700Z
UID:1184-1723680000-1724284799@victoriatrailag.com
SUMMARY:VTAS Indoor Arena: Temporary Closure
DESCRIPTION:The VTAS Indoor Arena will be temporarily closed from Thursday\, August 15\, to Wednesday\, August 21\, due to maintenance. It will re-open the morning of Wednesday\, August 21. Thank you for your understanding!
URL:https://victoriatrailag.com/event/vtas-indoor-arena-temporary-closure/
LOCATION:Alberta
END:VEVENT
BEGIN:VEVENT
DTSTART;TZID=America/Denver:20240811T080000
DTEND;TZID=America/Denver:20240811T230000
DTSTAMP:20260425T084825
CREATED:20240313T015148Z
LAST-MODIFIED:20240313T015148Z
UID:1127-1723363200-1723417200@victoriatrailag.com
SUMMARY:Waskatenau Fair Days No Riding
DESCRIPTION:
URL:https://victoriatrailag.com/event/waskatenau-fair-days-no-riding-5/
LOCATION:Waskatenau\, Alberta\, 5004 52 Avenue\, Waskatenau\, Alberta\, T0A 3P0
END:VEVENT
BEGIN:VEVENT
DTSTART;TZID=America/Denver:20240810T080000
DTEND;TZID=America/Denver:20240810T230000
DTSTAMP:20260425T084825
CREATED:20240313T014815Z
LAST-MODIFIED:20240313T014910Z
UID:1123-1723276800-1723330800@victoriatrailag.com
SUMMARY:Waskatenau Fair Days No Riding
DESCRIPTION:
URL:https://victoriatrailag.com/event/waskatenau-fair-days-no-riding-3/
LOCATION:Waskatenau\, Alberta\, 5004 52 Avenue\, Waskatenau\, Alberta\, T0A 3P0
END:VEVENT
BEGIN:VEVENT
DTSTART;TZID=America/Denver:20240809T080000
DTEND;TZID=America/Denver:20240809T230000
DTSTAMP:20260425T084825
CREATED:20240313T015044Z
LAST-MODIFIED:20240313T015044Z
UID:1125-1723190400-1723244400@victoriatrailag.com
SUMMARY:Waskatenau Fair Days No Riding
DESCRIPTION:
URL:https://victoriatrailag.com/event/waskatenau-fair-days-no-riding-4/
LOCATION:Waskatenau\, Alberta\, 5004 52 Avenue\, Waskatenau\, Alberta\, T0A 3P0
END:VEVENT
BEGIN:VEVENT
DTSTART;TZID=America/Denver:20240808T080000
DTEND;TZID=America/Denver:20240808T230000
DTSTAMP:20260425T084825
CREATED:20240313T014535Z
LAST-MODIFIED:20240313T014535Z
UID:1119-1723104000-1723158000@victoriatrailag.com
SUMMARY:Waskatenau Fair Days  No Riding
DESCRIPTION:
URL:https://victoriatrailag.com/event/waskatenau-fair-days-no-riding/
LOCATION:Waskatenau\, Alberta\, 5004 52 Avenue\, Waskatenau\, Alberta\, T0A 3P0
END:VEVENT
BEGIN:VEVENT
DTSTART;TZID=America/Denver:20240612T080000
DTEND;TZID=America/Denver:20240612T080000
DTSTAMP:20260425T084825
CREATED:20240612T014609Z
LAST-MODIFIED:20240612T132754Z
UID:1147-1718179200-1718179200@victoriatrailag.com
SUMMARY:Arena renovations complete and open for riding
DESCRIPTION:
URL:https://victoriatrailag.com/event/arena-renos-complete-and-open-for-riding/
LOCATION:Waskatenau\, Alberta\, 5004 52 Avenue\, Waskatenau\, Alberta\, T0A 3P0
END:VEVENT
BEGIN:VEVENT
DTSTART;TZID=America/Denver:20240610T080000
DTEND;TZID=America/Denver:20240610T200000
DTSTAMP:20260425T084825
CREATED:20240104T164645Z
LAST-MODIFIED:20240104T164645Z
UID:1090-1718006400-1718049600@victoriatrailag.com
SUMMARY:Bellis 4H Achievement Day
DESCRIPTION:
URL:https://victoriatrailag.com/event/bellis-4h-achievement-day-3/
LOCATION:Waskatenau\, Alberta\, 5004 52 Avenue\, Waskatenau\, Alberta\, T0A 3P0
END:VEVENT
BEGIN:VEVENT
DTSTART;TZID=America/Denver:20240609T090000
DTEND;TZID=America/Denver:20240609T210000
DTSTAMP:20260425T084825
CREATED:20240104T164858Z
LAST-MODIFIED:20240104T164858Z
UID:1092-1717923600-1717966800@victoriatrailag.com
SUMMARY:Bellis 4H Setup No Riding
DESCRIPTION:
URL:https://victoriatrailag.com/event/bellis-4h-setup-no-riding-2/
LOCATION:Waskatenau\, Alberta\, 5004 52 Avenue\, Waskatenau\, Alberta\, T0A 3P0
END:VEVENT
BEGIN:VEVENT
DTSTART;TZID=America/Denver:20240607T090000
DTEND;TZID=America/Denver:20240607T210000
DTSTAMP:20260425T084825
CREATED:20230614T163118Z
LAST-MODIFIED:20230614T163342Z
UID:938-1717750800-1717794000@victoriatrailag.com
SUMMARY:Newbrook 4H Beef Club Achievement Day
DESCRIPTION:
URL:https://victoriatrailag.com/event/newbrook-4h-beef-club/
LOCATION:Waskatenau\, Alberta\, 5004 52 Avenue\, Waskatenau\, Alberta\, T0A 3P0
END:VEVENT
BEGIN:VEVENT
DTSTART;TZID=America/Denver:20240606T080000
DTEND;TZID=America/Denver:20240606T200000
DTSTAMP:20260425T084825
CREATED:20231203T050426Z
LAST-MODIFIED:20231203T050426Z
UID:1081-1717660800-1717704000@victoriatrailag.com
SUMMARY:Newbrook 4H Beef Club Setup No Riding
DESCRIPTION:
URL:https://victoriatrailag.com/event/newbrook-4h-beef-club-setup-no-riding/
LOCATION:Alberta
END:VEVENT
BEGIN:VEVENT
DTSTART;TZID=America/Denver:20240602T080000
DTEND;TZID=America/Denver:20240602T200000
DTSTAMP:20260425T084825
CREATED:20231203T051021Z
LAST-MODIFIED:20231203T051021Z
UID:1083-1717315200-1717358400@victoriatrailag.com
SUMMARY:Newbrook 4H Horse Club Achievement Day
DESCRIPTION:
URL:https://victoriatrailag.com/event/newbrook-4h-horse-club-achievement-day/
LOCATION:Waskatenau\, Alberta\, 5004 52 Avenue\, Waskatenau\, Alberta\, T0A 3P0
END:VEVENT
BEGIN:VEVENT
DTSTART;TZID=America/Denver:20240519T090000
DTEND;TZID=America/Denver:20240519T140000
DTSTAMP:20260425T084825
CREATED:20231125T182854Z
LAST-MODIFIED:20231125T182854Z
UID:1047-1716109200-1716127200@victoriatrailag.com
SUMMARY:Newbrook 4H Horse Club
DESCRIPTION:
URL:https://victoriatrailag.com/event/newbrook-4h-horse-club-14/
LOCATION:Waskatenau\, Alberta\, 5004 52 Avenue\, Waskatenau\, Alberta\, T0A 3P0
END:VEVENT
BEGIN:VEVENT
DTSTART;TZID=America/Denver:20240505T090000
DTEND;TZID=America/Denver:20240505T140000
DTSTAMP:20260425T084825
CREATED:20231125T182637Z
LAST-MODIFIED:20231125T182637Z
UID:1045-1714899600-1714917600@victoriatrailag.com
SUMMARY:Newbrook 4H Horse Club
DESCRIPTION:
URL:https://victoriatrailag.com/event/newbrook-4h-horse-club-13/
LOCATION:Waskatenau\, Alberta\, 5004 52 Avenue\, Waskatenau\, Alberta\, T0A 3P0
END:VEVENT
BEGIN:VEVENT
DTSTART;TZID=America/Denver:20240424T080000
DTEND;TZID=America/Denver:20240424T200000
DTSTAMP:20260425T084825
CREATED:20231203T045739Z
LAST-MODIFIED:20231203T045739Z
UID:1077-1713945600-1713988800@victoriatrailag.com
SUMMARY:Private Booking
DESCRIPTION:
URL:https://victoriatrailag.com/event/private-booking-29/
LOCATION:Waskatenau\, Alberta\, 5004 52 Avenue\, Waskatenau\, Alberta\, T0A 3P0
END:VEVENT
BEGIN:VEVENT
DTSTART;TZID=America/Denver:20240421T090000
DTEND;TZID=America/Denver:20240421T140000
DTSTAMP:20260425T084825
CREATED:20240412T162606Z
LAST-MODIFIED:20240412T162606Z
UID:1142-1713690000-1713708000@victoriatrailag.com
SUMMARY:Newbrook 4H Horse Club
DESCRIPTION:
URL:https://victoriatrailag.com/event/newbrook-4h-horse-club-12/
LOCATION:Waskatenau\, Alberta\, 5004 52 Avenue\, Waskatenau\, Alberta\, T0A 3P0
END:VEVENT
BEGIN:VEVENT
DTSTART;TZID=America/Denver:20240413T080000
DTEND;TZID=America/Denver:20240413T170000
DTSTAMP:20260425T084825
CREATED:20240226T053643Z
LAST-MODIFIED:20240226T053643Z
UID:1111-1712995200-1713027600@victoriatrailag.com
SUMMARY:Newbrook 4H Beef Club
DESCRIPTION:
URL:https://victoriatrailag.com/event/newbrook-4h-beef-club-2/
LOCATION:Waskatenau\, Alberta\, 5004 52 Avenue\, Waskatenau\, Alberta\, T0A 3P0
END:VEVENT
BEGIN:VEVENT
DTSTART;TZID=America/Denver:20240407T090000
DTEND;TZID=America/Denver:20240407T140000
DTSTAMP:20260425T084825
CREATED:20231125T181915Z
LAST-MODIFIED:20231125T181915Z
UID:1041-1712480400-1712498400@victoriatrailag.com
SUMMARY:Newbrook 4H Horse Club
DESCRIPTION:
URL:https://victoriatrailag.com/event/newbrook-4h-horse-club-11/
LOCATION:Waskatenau\, Alberta\, 5004 52 Avenue\, Waskatenau\, Alberta\, T0A 3P0
END:VEVENT
BEGIN:VEVENT
DTSTART;TZID=America/Denver:20240403T090000
DTEND;TZID=America/Denver:20240403T180000
DTSTAMP:20260425T084825
CREATED:20240306T202955Z
LAST-MODIFIED:20240306T202955Z
UID:1113-1712134800-1712167200@victoriatrailag.com
SUMMARY:Private Booking
DESCRIPTION:
URL:https://victoriatrailag.com/event/private-booking-37/
LOCATION:Waskatenau\, Alberta\, 5004 52 Avenue\, Waskatenau\, Alberta\, T0A 3P0
END:VEVENT
BEGIN:VEVENT
DTSTART;TZID=America/Denver:20240328T150000
DTEND;TZID=America/Denver:20240328T170000
DTSTAMP:20260425T084825
CREATED:20240313T013603Z
LAST-MODIFIED:20240313T013603Z
UID:1117-1711638000-1711645200@victoriatrailag.com
SUMMARY:Private Booking
DESCRIPTION:
URL:https://victoriatrailag.com/event/private-booking-39/
LOCATION:Waskatenau\, Alberta\, 5004 52 Avenue\, Waskatenau\, Alberta\, T0A 3P0
END:VEVENT
BEGIN:VEVENT
DTSTART;TZID=America/Denver:20240327T080000
DTEND;TZID=America/Denver:20240327T200000
DTSTAMP:20260425T084825
CREATED:20231203T045613Z
LAST-MODIFIED:20231203T045613Z
UID:1073-1711526400-1711569600@victoriatrailag.com
SUMMARY:Private Booking
DESCRIPTION:
URL:https://victoriatrailag.com/event/private-booking-27/
LOCATION:Waskatenau\, Alberta\, 5004 52 Avenue\, Waskatenau\, Alberta\, T0A 3P0
END:VEVENT
BEGIN:VEVENT
DTSTART;TZID=America/Denver:20240317T090000
DTEND;TZID=America/Denver:20240317T140000
DTSTAMP:20260425T084825
CREATED:20231125T181736Z
LAST-MODIFIED:20231125T181736Z
UID:1039-1710666000-1710684000@victoriatrailag.com
SUMMARY:Newbrook 4H Horse Club
DESCRIPTION:
URL:https://victoriatrailag.com/event/newbrook-4h-horse-club-10/
LOCATION:Waskatenau\, Alberta\, 5004 52 Avenue\, Waskatenau\, Alberta\, T0A 3P0
END:VEVENT
BEGIN:VEVENT
DTSTART;TZID=America/Denver:20240313T080000
DTEND;TZID=America/Denver:20240313T200000
DTSTAMP:20260425T084825
CREATED:20231203T045522Z
LAST-MODIFIED:20231203T045522Z
UID:1071-1710316800-1710360000@victoriatrailag.com
SUMMARY:Private Booking
DESCRIPTION:
URL:https://victoriatrailag.com/event/private-booking-26/
LOCATION:Waskatenau\, Alberta\, 5004 52 Avenue\, Waskatenau\, Alberta\, T0A 3P0
END:VEVENT
BEGIN:VEVENT
DTSTART;TZID=America/Denver:20240309T130000
DTEND;TZID=America/Denver:20240309T160000
DTSTAMP:20260425T084825
CREATED:20240308T051735Z
LAST-MODIFIED:20240308T051735Z
UID:1115-1709989200-1710000000@victoriatrailag.com
SUMMARY:Private Booking
DESCRIPTION:
URL:https://victoriatrailag.com/event/private-booking-38/
LOCATION:Waskatenau\, Alberta\, 5004 52 Avenue\, Waskatenau\, Alberta\, T0A 3P0
END:VEVENT
BEGIN:VEVENT
DTSTART;TZID=America/Denver:20240306T080000
DTEND;TZID=America/Denver:20240306T200000
DTSTAMP:20260425T084825
CREATED:20240202T063733Z
LAST-MODIFIED:20240202T063733Z
UID:1105-1709712000-1709755200@victoriatrailag.com
SUMMARY:Private Booking
DESCRIPTION:
URL:https://victoriatrailag.com/event/private-booking-34/
LOCATION:Waskatenau\, Alberta\, 5004 52 Avenue\, Waskatenau\, Alberta\, T0A 3P0
END:VEVENT
BEGIN:VEVENT
DTSTART;TZID=America/Denver:20240303T090000
DTEND;TZID=America/Denver:20240303T140000
DTSTAMP:20260425T084825
CREATED:20231125T181626Z
LAST-MODIFIED:20231125T181626Z
UID:1037-1709456400-1709474400@victoriatrailag.com
SUMMARY:Newbrook 4H Horse Club
DESCRIPTION:
URL:https://victoriatrailag.com/event/newbrook-4h-horse-club-9/
LOCATION:Waskatenau\, Alberta\, 5004 52 Avenue\, Waskatenau\, Alberta\, T0A 3P0
END:VEVENT
BEGIN:VEVENT
DTSTART;TZID=America/Denver:20240228T080000
DTEND;TZID=America/Denver:20240228T200000
DTSTAMP:20260425T084825
CREATED:20231203T045436Z
LAST-MODIFIED:20231203T045436Z
UID:1069-1709107200-1709150400@victoriatrailag.com
SUMMARY:Private Booking
DESCRIPTION:
URL:https://victoriatrailag.com/event/private-booking-25/
LOCATION:Waskatenau\, Alberta\, 5004 52 Avenue\, Waskatenau\, Alberta\, T0A 3P0
END:VEVENT
END:VCALENDAR